BEGIN:VCALENDAR
VERSION:2.0
PRODID:-//Rotary Club of Windsor - ECPv4.9.3.1//NONSGML v1.0//EN
CALSCALE:GREGORIAN
METHOD:PUBLISH
X-WR-CALNAME:Rotary Club of Windsor
X-ORIGINAL-URL:https://windsorrotary.org.au
X-WR-CALDESC:Events for Rotary Club of Windsor
BEGIN:VEVENT
DTSTART;TZID=UTC+0:20200226T183000
DTEND;TZID=UTC+0:20200226T200000
DTSTAMP:20200228T113836
CREATED:20200203T042614Z
LAST-MODIFIED:20200204T004731Z
UID:1802-1582741800-1582747200@windsorrotary.org.au
SUMMARY:Guest Speaker: Robin Hodson "Photograph Restoration and Storage"
DESCRIPTION:Introduced by Paul Fraser \n
URL:https://windsorrotary.org.au/event/guest-speaker-rob-hobson-photograph-restoration/
LOCATION:Windsor Country Golf Club\, 40 McQuade Avenue\, South Windsor\, NSW\, Australia
GEO:-33.614602;150.8062239
X-APPLE-STRUCTURED-LOCATION;VALUE=URI;X-ADDRESS=Windsor Country Golf Club 40 McQuade Avenue South Windsor NSW Australia;X-APPLE-RADIUS=500;X-TITLE=40 McQuade Avenue:geo:150.8062239,-33.614602
END:VEVENT
END:VCALENDAR