BEGIN:VCALENDAR
VERSION:2.0
PRODID:-//Rotary Club of Windsor - ECPv4.9.3.1//NONSGML v1.0//EN
CALSCALE:GREGORIAN
METHOD:PUBLISH
X-WR-CALNAME:Rotary Club of Windsor
X-ORIGINAL-URL:https://windsorrotary.org.au
X-WR-CALDESC:Events for Rotary Club of Windsor
BEGIN:VEVENT
DTSTART;TZID=UTC+0:20200311T183000
DTEND;TZID=UTC+0:20200311T200000
DTSTAMP:20200228T113646
CREATED:20191220T073648Z
LAST-MODIFIED:20191222T212247Z
UID:1786-1583951400-1583956800@windsorrotary.org.au
SUMMARY:Guest Speaker: Elyse Powell: Estate Planning
DESCRIPTION:Elyse Powell\, Principal Solicitor at Bells Line Legal\, will speak on estate planning and other related matters. \n
URL:https://windsorrotary.org.au/event/guest-speaker-elyse-powell-estate-planning/
LOCATION:Windsor Country Golf Club\, 40 McQuade Avenue\, South Windsor\, NSW\, Australia
GEO:-33.614602;150.8062239
X-APPLE-STRUCTURED-LOCATION;VALUE=URI;X-ADDRESS=Windsor Country Golf Club 40 McQuade Avenue South Windsor NSW Australia;X-APPLE-RADIUS=500;X-TITLE=40 McQuade Avenue:geo:150.8062239,-33.614602
END:VEVENT
END:VCALENDAR